BEGIN:VCALENDAR
VERSION:2.0
PRODID:-//Squarespace Inc/Squarespace 6//v6//EN
BEGIN:VEVENT
UID:5f862a090f9e8a4ebc254f36@squarespace.com
DTSTAMP:20201202T085720Z
DTSTART:20201029T070000Z
DTEND:20201029T100000Z
SUMMARY:WiB Wagga Mystery Dinner
END:VEVENT
END:VCALENDAR
