BEGIN:VCALENDAR
VERSION:2.0
PRODID:-//Squarespace Inc/Squarespace 6//v6//EN
BEGIN:VEVENT
UID:5fc756f01d689b68bf99f7bb@squarespace.com
DTSTAMP:20201202T092110Z
DTSTART:20201215T070000Z
DTEND:20201215T100000Z
SUMMARY:WiB 2020 Christmas Celebrations...with a little Sparkle!
GEO:-35.105624;147.370091
LOCATION:Romano's Hotel\, 81 Fitzmaurice Street\, Wagga Wagga
END:VEVENT
END:VCALENDAR
