BEGIN:VCALENDAR
VERSION:2.0
PRODID:-//Squarespace Inc/Squarespace 6//v6//EN
BEGIN:VEVENT
UID:5cba4ffb9140b73a06bb4220@squarespace.com
DTSTAMP:20190420T061208Z
DTSTART:20190509T080000Z
DTEND:20190509T103000Z
SUMMARY:Hear Them Roar - 2018/19 Series - Screening Five
GEO:-35.105624;147.370091
LOCATION:Romano's Hotel\, 81 Fitzmaurice Street\, Wagga Wagga\, NSW\, 2650\
 , Australia
END:VEVENT
END:VCALENDAR
