BEGIN:VCALENDAR
VERSION:2.0
PRODID:-//Squarespace Inc/Squarespace 6//v6//EN
BEGIN:VEVENT
UID:5e4ccd7c096b7a059290d523@squarespace.com
DTSTAMP:20200305T221942Z
DTSTART:20200307T210000Z
DTEND:20200307T230000Z
SUMMARY:Event Cancelled - Yoga &amp\; Breakfast for International Women’s D
 ay with WiB Wagga
END:VEVENT
END:VCALENDAR
