BEGIN:VCALENDAR
VERSION:2.0
PRODID:-//Squarespace Inc/Squarespace 6//v6//EN
BEGIN:VEVENT
UID:5e1434be91a90d6253854bac@squarespace.com
DTSTAMP:20200109T051043Z
DTSTART:20200226T063000Z
DTEND:20200226T103000Z
SUMMARY: Get Remarkably Organised Workshop with Lorraine Murphy
END:VEVENT
END:VCALENDAR
