BEGIN:VCALENDAR
VERSION:2.0
PRODID:-//Squarespace Inc/Squarespace 6//v6//EN
BEGIN:VEVENT
UID:5caf563153450a7224ee458a@squarespace.com
DTSTAMP:20190419T220823Z
DTSTART:20190430T023000Z
DTEND:20190430T033000Z
SUMMARY:WiB Lunch with Marika Calfas @ the Art Gallery
GEO:-35.109207;147.372645
LOCATION:Wagga Wagga Art Gallery\, Civic Centre\, Wagga Wagga\, NSW\, 2650\
 , Australia
END:VEVENT
END:VCALENDAR
