BEGIN:VCALENDAR
VERSION:2.0
PRODID:-//Squarespace Inc/Squarespace 6//v6//EN
BEGIN:VEVENT
UID:5aec4a0af950b715cde90b59@squarespace.com
DTSTAMP:20180907T075545Z
DTSTART:20180918T080000Z
DTEND:20180918T103000Z
SUMMARY:Hear Them Roar - 2018 Series - Screening Two
GEO:-35.108169;147.359832
LOCATION:Wagga Wagga Country Club
END:VEVENT
END:VCALENDAR
