BEGIN:VCALENDAR
VERSION:2.0
PRODID:-//Squarespace Inc/Squarespace 6//v6//EN
BEGIN:VEVENT
UID:5b3c061988251b56318f7379@squarespace.com
DTSTAMP:20190615T234008Z
DTSTART:20180829T080000Z
DTEND:20180829T090000Z
SUMMARY:AGM
GEO:-35.105956;147.369838
LOCATION:Romano's Hotel\, Cnr Sturt & Fitzmaurice Steet\, Wagga Wagga
END:VEVENT
END:VCALENDAR
