BEGIN:VCALENDAR
VERSION:2.0
PRODID:-//Squarespace Inc/Squarespace 6//v6//EN
BEGIN:VEVENT
UID:5ad7b9b088251b1250986497@squarespace.com
DTSTAMP:20180509T042531Z
DTSTART:20180522T080000Z
DTEND:20180522T103000Z
SUMMARY:Speed Networking @ Uneke Warehouse
GEO:-35.104105;147.368402
LOCATION:Uneke Warehouse\, 140 Fitzmaurice Street\, Wagga Wagga\, NSW\, 265
 0\, Australia
END:VEVENT
END:VCALENDAR
