BEGIN:VCALENDAR
VERSION:2.0
PRODID:-//Squarespace Inc/Squarespace 6//v6//EN
BEGIN:VEVENT
UID:5c5b3ea7e4966be819e56daf@squarespace.com
DTSTAMP:20190322T033958Z
DTSTART:20190221T073000Z
DTEND:20190221T093000Z
SUMMARY:WiB Welcome to 2019 Networking Evening @ The Loft
GEO:-35.117186;147.3695
LOCATION:The Loft\, 55 Baylis Street\, Wagga Wagga
END:VEVENT
END:VCALENDAR
