BEGIN:VCALENDAR
VERSION:2.0
PRODID:-//Squarespace Inc/Squarespace 6//v6//EN
BEGIN:VEVENT
UID:59b214b3d55b4168dbc673d0@squarespace.com
DTSTAMP:20170919T111821Z
DTSTART:20171025T070000Z
DTEND:20171025T093000Z
SUMMARY:WiB Hear Them Roar - the Final Screening!
END:VEVENT
END:VCALENDAR
