BEGIN:VCALENDAR
VERSION:2.0
PRODID:-//Squarespace Inc/Squarespace 6//v6//EN
BEGIN:VEVENT
UID:59a6b081d482e9879762ffcf@squarespace.com
DTSTAMP:20170830T124426Z
DTSTART:20170919T210000Z
DTEND:20170919T230000Z
SUMMARY:WiB Spring Breakfast with Nicola Hazell
END:VEVENT
END:VCALENDAR
