BEGIN:VCALENDAR
VERSION:2.0
PRODID:-//Squarespace Inc/Squarespace 6//v6//EN
BEGIN:VEVENT
UID:5940d537b3db2b6a75fe1675@squarespace.com
DTSTAMP:20170719T025440Z
DTSTART:20170727T073000Z
DTEND:20170727T123000Z
SUMMARY:WiB Winter Dinner and Keynote Presentation by Sue Currie
END:VEVENT
END:VCALENDAR
