BEGIN:VCALENDAR
VERSION:2.0
PRODID:-//Squarespace Inc/Squarespace 6//v6//EN
BEGIN:VEVENT
UID:58c61b40f5e23157c0bb1b61@squarespace.com
DTSTAMP:20170313T041941Z
DTSTART:20170323T070000Z
DTEND:20170323T090000Z
SUMMARY:WiB Networking with Naomi Stuart (She Starts) & HTR Screening 3
END:VEVENT
END:VCALENDAR
