BEGIN:VCALENDAR
VERSION:2.0
PRODID:-//Squarespace Inc/Squarespace 6//v6//EN
BEGIN:VEVENT
UID:5880453786e6c00a3844706b@squarespace.com
DTSTAMP:20170119T045250Z
DTSTART:20170209T070000Z
DTEND:20170209T103000Z
SUMMARY:WiB Wagga presents Carolyn Creswell
END:VEVENT
END:VCALENDAR
