BEGIN:VCALENDAR
VERSION:2.0
PRODID:-//Squarespace Inc/Squarespace 6//v6//EN
BEGIN:VEVENT
UID:57bb86fbe6f2e1aba12f8ba7@squarespace.com
DTSTAMP:20160822T232008Z
DTSTART:20160905T210000Z
DTEND:20160905T230000Z
SUMMARY:Annual Women in Business Spring Breakfast
END:VEVENT
END:VCALENDAR
