BEGIN:VCALENDAR
VERSION:2.0
PRODID:-//Squarespace Inc/Squarespace 6//v6//EN
BEGIN:VEVENT
UID:57fc549a9f7456fb6ede1043@squarespace.com
DTSTAMP:20161011T030930Z
DTSTART:20161026T064500Z
DTEND:20161026T093000Z
SUMMARY:Special Screening - The Hear Them Roar Series.
END:VEVENT
END:VCALENDAR
